BEGIN:VCALENDAR
VERSION:2.0
PRODID:-//Squarespace Inc/Squarespace 6//v6//EN
BEGIN:VEVENT
UID:5cb8e5fbee6eb0650cd538cf@squarespace.com
DTSTAMP:20190418T210413Z
DTSTART:20190415T030000Z
DTEND:20190415T040000Z
SUMMARY:NZCER
GEO:-41.291205;174.773574
LOCATION:NZCER\, 178 Willis Street\, Wellington\, Wellington\, 6011\, New Z
 ealand
END:VEVENT
END:VCALENDAR
