BEGIN:VCALENDAR
VERSION:2.0
PRODID:-//Squarespace Inc/Squarespace 6//v6//EN
BEGIN:VEVENT
UID:5cab987271c10beba5750ebd@squarespace.com
DTSTAMP:20190408T185539Z
DTSTART:20190415T030000Z
DTEND:20190415T040000Z
SUMMARY:NZ Council for Educational Research (NZCER)
GEO:-41.291438;174.773128
LOCATION:Education House\, 178-182 Willis Street\, Wellington
END:VEVENT
END:VCALENDAR
