BEGIN:VCALENDAR
VERSION:2.0
PRODID:-//Squarespace Inc/Squarespace 6//v6//EN
BEGIN:VEVENT
UID:5c9c9257085229a6e7b550cf@squarespace.com
DTSTAMP:20190328T092416Z
DTSTART:20190410T203000Z
DTEND:20190410T223000Z
SUMMARY:MIndLab/Teach First NZ Breakfast Keynote
END:VEVENT
END:VCALENDAR
