BEGIN:VCALENDAR
VERSION:2.0
PRODID:-//Squarespace Inc/Squarespace 6//v6//EN
BEGIN:VEVENT
UID:5bef501dcd8366b9a77c1e1b@squarespace.com
DTSTAMP:20190301T032758Z
DTSTART:20190307T213000Z
DTEND:20190307T233000Z
SUMMARY:Central North Island Secondary Principals' Association
GEO:-37.867106;175.338397
LOCATION:Hamilton Airport Convention Centre\, 201 Airport Road\, Ohaupo\, W
 aikato\, 3282\, New Zealand
END:VEVENT
END:VCALENDAR
