BEGIN:VCALENDAR
VERSION:2.0
PRODID:-//Squarespace Inc/Squarespace 6//v6//EN
BEGIN:VEVENT
UID:5c78a9f4eef1a1d0bb9c654a@squarespace.com
DTSTAMP:20190301T045239Z
DTSTART:20190328T200000Z
DTEND:20190329T010000Z
SUMMARY:Northland DHB Kaupapa Māori Health Symposium
GEO:-35.73596;174.300153
LOCATION:Tohora House\, Hospital Rd\, Maunu Whangarei
END:VEVENT
END:VCALENDAR
