BEGIN:VCALENDAR
VERSION:2.0
PRODID:-//Squarespace Inc/Squarespace 6//v6//EN
BEGIN:VEVENT
UID:5c501e3742bfc1226f330655@squarespace.com
DTSTAMP:20190301T033848Z
DTSTART:20190319T050000Z
DTEND:20190319T073000Z
SUMMARY:Waikato-Tainui
GEO:-37.762979;175.276502
LOCATION:Fairfield College\, 25 Bankwood Road\, Hamilton\, Waikato\, 3210\, 
 New Zealand
END:VEVENT
END:VCALENDAR
