BEGIN:VCALENDAR
VERSION:2.0
PRODID:-//Squarespace Inc/Squarespace 6//v6//EN
BEGIN:VEVENT
UID:5c501fa940ec9aca1fe508a3@squarespace.com
DTSTAMP:20190320T202852Z
DTSTART:20190327T050000Z
DTEND:20190327T073000Z
SUMMARY:Waikato-Tainui
GEO:-36.9809;174.89282
LOCATION:Kia Aroha College\, 51 Othello Drive\, Auckland\, New Zealand
END:VEVENT
END:VCALENDAR
