BEGIN:VCALENDAR
VERSION:2.0
PRODID:-//Squarespace Inc/Squarespace 6//v6//EN
BEGIN:VEVENT
UID:5c78a833104c7b870e987b46@squarespace.com
DTSTAMP:20190301T045259Z
DTSTART:20190317T200000Z
DTEND:20190318T020000Z
SUMMARY:Manurewa High School TOD
GEO:-37.011573;174.88212
LOCATION:Manurewa High School\, 67 Browns Road\, Auckland\, Auckland\, 2102
 \, New Zealand
END:VEVENT
END:VCALENDAR
