BEGIN:VCALENDAR
VERSION:2.0
PRODID:-//Squarespace Inc/Squarespace 6//v6//EN
BEGIN:VEVENT
UID:5c09d3ae8a922d130847d70d@squarespace.com
DTSTAMP:20181207T020911Z
DTSTART:20190313T200000Z
DTEND:20190314T020000Z
SUMMARY:Massey University Staff Workshop: Wellington Campus
GEO:-41.304444;174.77504
LOCATION:Massey Univerity\, Wallace Street\, Wellington\, Wellington\, New 
 Zealand
END:VEVENT
END:VCALENDAR
