BEGIN:VCALENDAR
VERSION:2.0
PRODID:-//Squarespace Inc/Squarespace 6//v6//EN
BEGIN:VEVENT
UID:5c09d6dc40ec9a17fe8b475b@squarespace.com
DTSTAMP:20181207T021337Z
DTSTART:20190314T200000Z
DTEND:20190315T020000Z
SUMMARY:Massey University Staff Workshop: Manawatū Campus
GEO:-40.378337;175.61764
LOCATION:Massey Univerity\, 1 Tennent Drive\, Palmerston North\, Manawatu-W
 anganui\, 4474\, New Zealand
END:VEVENT
END:VCALENDAR
