BEGIN:VCALENDAR
VERSION:2.0
PRODID:-//Squarespace Inc/Squarespace 6//v6//EN
BEGIN:VEVENT
UID:5c78a704e5e5f00887121348@squarespace.com
DTSTAMP:20190301T033206Z
DTSTART:20190310T200000Z
DTEND:20190310T220000Z
SUMMARY:Kereru Park Campus SLT
GEO:-37.075098;174.937237
LOCATION:Kereru Park Campus\, 58 Beach Road\, Papakura\, Auckland\, 2113\, 
 New Zealand
END:VEVENT
END:VCALENDAR
