BEGIN:VCALENDAR
VERSION:2.0
PRODID:-//Squarespace Inc/Squarespace 6//v6//EN
BEGIN:VEVENT
UID:5c09c3d3cd8366905ac806b6@squarespace.com
DTSTAMP:20181207T005510Z
DTSTART:20190220T223000Z
DTEND:20190221T000000Z
SUMMARY:Northern Health School
GEO:-36.856059;174.76197
LOCATION:University of Otago Building\, 385 Queen Street\, Auckland\, Auckl
 and\, 1010\, New Zealand
END:VEVENT
END:VCALENDAR
