BEGIN:VCALENDAR
VERSION:2.0
PRODID:-//Squarespace Inc/Squarespace 6//v6//EN
BEGIN:VEVENT
UID:5c0d84204ae237a297e499c1@squarespace.com
DTSTAMP:20181209T211158Z
DTSTART:20190212T200000Z
DTEND:20190213T033000Z
SUMMARY:Wellington East Girls' College
GEO:-41.298671;174.787061
LOCATION:Wellington East Girls' Collegel\, Austin Street\, Wellington\, Wel
 lington\, 6011\, New Zealand
END:VEVENT
END:VCALENDAR
