BEGIN:VCALENDAR
VERSION:2.0
PRODID:-//Squarespace Inc/Squarespace 6//v6//EN
BEGIN:VEVENT
UID:5be7497e1ae6cfbdd79bc458@squarespace.com
DTSTAMP:20181110T211415Z
DTSTART:20190124T200000Z
DTEND:20190125T000000Z
SUMMARY:Hagley College
GEO:-43.537937;172.623631
LOCATION:Hagley College\, 510 Hagley Avenue\, Christchurch 8011
END:VEVENT
END:VCALENDAR
