BEGIN:VCALENDAR
VERSION:2.0
PRODID:-//Squarespace Inc/Squarespace 6//v6//EN
BEGIN:VEVENT
UID:5b8f35660e2e72196153fc58@squarespace.com
DTSTAMP:20180905T014910Z
DTSTART:20190130T200000Z
DTEND:20190131T020000Z
SUMMARY:Te Aro School
GEO:-41.293968;174.768979
LOCATION:Te Aro School\, 360 The Terrace\, Te Aro\, Wellington 6011
END:VEVENT
END:VCALENDAR
