BEGIN:VCALENDAR
VERSION:2.0
PRODID:-//Squarespace Inc/Squarespace 6//v6//EN
BEGIN:VEVENT
UID:5c09c7a021c67cdfae2d0f00@squarespace.com
DTSTAMP:20181207T011008Z
DTSTART:20190211T200000Z
DTEND:20190212T030000Z
SUMMARY:'Expert Thought Leader' Workshop - Give Nothing to Racism 
GEO:-41.28501;174.777413
LOCATION:Clemenger BBDO\, Post Office Square\, Wellington\, Wellington\, 60
 11\, New Zealand
END:VEVENT
END:VCALENDAR
